BEGIN:VCALENDAR
VERSION:2.0
CALSCALE:GREGORIAN
BEGIN:VEVENT
DTSTAMP:20260421T082831
DTSTART:20260423T183000
DTEND:20260423T213000
SUMMARY:Special Jazz Night In The Cellar @ Negociant Winery In Hillcrest
DESCRIPTION:Event Info: https://www.localwineevents.com/view/event/special-jazz-night-in-the-cellar-negociant-winery-in-hillcrest/1002900
LOCATION:Negociant Urban Winery in Hillcrest -- 1263 University San Diego, Ca 92103
STATUS:CONFIRMED
SEQUENCE:0
TRANSP:OPAQUE
END:VEVENT
END:VCALENDAR
