BEGIN:VCALENDAR
VERSION:2.0
CALSCALE:GREGORIAN
BEGIN:VEVENT
DTSTAMP:20260421T082810
DTSTART:20260426T120000
DTEND:20260517T160000
SUMMARY:Sunday Funday @ Negociant Winery~ Open 12-4
DESCRIPTION:Event Info: https://www.localwineevents.com/view/event/sunday-funday-negociant-winery-open-12-4/1002899
LOCATION:Negociant Urban Winery in Hillcrest -- 1263 University Avenue San Diego, Ca 92103
STATUS:CONFIRMED
SEQUENCE:0
TRANSP:OPAQUE
END:VEVENT
END:VCALENDAR
