BEGIN:VCALENDAR
VERSION:2.0
CALSCALE:GREGORIAN
BEGIN:VEVENT
DTSTAMP:20260421T082810
DTSTART:20260422T190000
DTEND:20260422T210000
SUMMARY:Wine Wednesday Lego Build And Sip @ Negociant Winery
DESCRIPTION:Event Info: https://www.localwineevents.com/view/event/wine-wednesday-lego-build-and-sip-negociant-winery/1002898
LOCATION:Negociant Winery and Tasting Room in Hillcrest -- 1263 University Avenue San Diego, California 92103
STATUS:CONFIRMED
SEQUENCE:0
TRANSP:OPAQUE
END:VEVENT
END:VCALENDAR
