BEGIN:VCALENDAR
VERSION:2.0
CALSCALE:GREGORIAN
BEGIN:VEVENT
DTSTAMP:20260422T163829
DTSTART:20260426T120000
DTEND:20260517T140000
SUMMARY:Blend Your Own Bottle Of Wine @Wine Tree Farm
DESCRIPTION:Event Info: https://www.localwineevents.com/view/event/blend-your-own-bottle-of-wine-wine-tree-farm/1002897
LOCATION:Wine Tree Farm Winery -- 14467 Highway 49 Amador City, CA 95601
STATUS:CONFIRMED
SEQUENCE:0
TRANSP:OPAQUE
END:VEVENT
END:VCALENDAR
