BEGIN:VCALENDAR
VERSION:2.0
CALSCALE:GREGORIAN
BEGIN:VEVENT
DTSTAMP:20260422T163834
DTSTART:20260425T120000
DTEND:20260517T170000
SUMMARY:Visit Wine Tree Farm  Corinne Wines In Amador County
DESCRIPTION:Event Info: https://www.localwineevents.com/view/event/visit-wine-tree-farm-corinne-wines-in-amador-county/1002896
LOCATION:Wine Tree Farm Winery -- 14467 Highway 49 Amador City, CA 95601
STATUS:CONFIRMED
SEQUENCE:0
TRANSP:OPAQUE
END:VEVENT
END:VCALENDAR
