BEGIN:VCALENDAR
VERSION:2.0
CALSCALE:GREGORIAN
BEGIN:VEVENT
DTSTAMP:20260422T163826
DTSTART:20260424T110000
DTEND:20260517T170000
SUMMARY:Visit Wine Tree Farm  Sunset Hill Designs In Amador City
DESCRIPTION:Event Info: https://www.localwineevents.com/view/event/visit-wine-tree-farm-sunset-hill-designs-in-amador-city/1002895
LOCATION:Wine Tree Farm  Sunset Hill Designs -- 14196 Main St Amador City, CA 95601
STATUS:CONFIRMED
SEQUENCE:0
TRANSP:OPAQUE
END:VEVENT
END:VCALENDAR
