BEGIN:VCALENDAR
VERSION:2.0
CALSCALE:GREGORIAN
BEGIN:VEVENT
DTSTAMP:20260420T232900
DTSTART:20260501T160000
DTEND:20260522T180000
SUMMARY:Golden Hour At The Barn At The Hilt Estate
DESCRIPTION:Event Info: https://www.localwineevents.com/view/event/golden-hour-at-the-barn-at-the-hilt-estate/1002893
LOCATION:The Hilt Estate -- 2240 Santa Rosa Road Lompoc, CA 93436
STATUS:CONFIRMED
SEQUENCE:0
TRANSP:OPAQUE
END:VEVENT
END:VCALENDAR
