BEGIN:VCALENDAR
VERSION:2.0
CALSCALE:GREGORIAN
BEGIN:VEVENT
DTSTAMP:20260421T080503
DTSTART:20260501T180000
DTEND:20260501T200000
SUMMARY:Luxury Cruise Night With Scenic Group
DESCRIPTION:Event Info: https://www.localwineevents.com/view/event/luxury-cruise-night-with-scenic-group/1002892
LOCATION:Total Wine at Ballantyne -- 5341 Ballantyne Commons Pkwy. S. 100 Charlotte, North Carolina 28277
STATUS:CONFIRMED
SEQUENCE:0
TRANSP:OPAQUE
END:VEVENT
END:VCALENDAR
