BEGIN:VCALENDAR
VERSION:2.0
CALSCALE:GREGORIAN
BEGIN:VEVENT
DTSTAMP:20260420T212306
DTSTART:20260522T180000
DTEND:20260524T210000
SUMMARY:Music Under The Arbor Kickoff Weekend
DESCRIPTION:Event Info: https://www.localwineevents.com/view/event/music-under-the-arbor-kickoff-weekend/1002886
LOCATION:Wisteria Farm and Vineyard -- 1126 Marksville Rd Stanley, VA 22851
STATUS:CONFIRMED
SEQUENCE:0
TRANSP:OPAQUE
END:VEVENT
END:VCALENDAR
