BEGIN:VCALENDAR
VERSION:2.0
CALSCALE:GREGORIAN
BEGIN:VEVENT
DTSTAMP:20260423T135845
DTSTART:20260510T110000
DTEND:20260510T170000
SUMMARY:Mother\'s Day Celebration At 3BrosWine
DESCRIPTION:Event Info: https://www.localwineevents.com/view/event/mothers-day-celebration-at-3broswine/1002885
LOCATION:Three Brothers Wineries -- 623 Lerch Road Geneva, NY 14456
STATUS:CONFIRMED
SEQUENCE:0
TRANSP:OPAQUE
END:VEVENT
END:VCALENDAR
