BEGIN:VCALENDAR
VERSION:2.0
CALSCALE:GREGORIAN
BEGIN:VEVENT
DTSTAMP:20260420T213407
DTSTART:20260424T180000
DTEND:20260424T210000
SUMMARY:4th Frey-Days Live Music With Blue Luke
DESCRIPTION:Event Info: https://www.localwineevents.com/view/event/4th-frey-days-live-music-with-blue-luke/1002884
LOCATION:Frey Vineyards -- 11700 West Rd. Redwood Valley, CA 95470
STATUS:CONFIRMED
SEQUENCE:0
TRANSP:OPAQUE
END:VEVENT
END:VCALENDAR
