BEGIN:VCALENDAR
VERSION:2.0
CALSCALE:GREGORIAN
BEGIN:VEVENT
DTSTAMP:20260420T204315
DTSTART:20260530T120000
DTEND:20260530T170000
SUMMARY:SIPS, STARS  STRIPES: A NJ Wine Revolution
DESCRIPTION:Event Info: https://www.localwineevents.com/view/event/sips-stars-stripes-a-nj-wine-revolution/1002879
LOCATION:War Memorial -- One Memorial Drive Trenton, NJ 08625
STATUS:CONFIRMED
SEQUENCE:0
TRANSP:OPAQUE
END:VEVENT
END:VCALENDAR
