BEGIN:VCALENDAR
VERSION:2.0
CALSCALE:GREGORIAN
BEGIN:VEVENT
DTSTAMP:20260420T213407
DTSTART:20260421T183000
DTEND:20260421T213000
SUMMARY:Nada Giuseppe Wine Dinner At Stecca Taverna
DESCRIPTION:Event Info: https://www.localwineevents.com/view/event/nada-giuseppe-wine-dinner-at-stecca-taverna/1002877
LOCATION:Stecca Taverna -- 439 Pier Ave Hermosa Beach, CA 90254
STATUS:CONFIRMED
SEQUENCE:0
TRANSP:OPAQUE
END:VEVENT
END:VCALENDAR
