BEGIN:VCALENDAR
VERSION:2.0
CALSCALE:GREGORIAN
BEGIN:VEVENT
DTSTAMP:20260420T193528
DTSTART:20260613T130000
DTEND:20260613T170000
SUMMARY:Sips  Saddles: A Celebration Of National Ros Day
DESCRIPTION:Event Info: https://www.localwineevents.com/view/event/sips-saddles-a-celebration-of-national-ros-day/1002876
LOCATION:Will Rogers Polo Club -- 1501 Will Rogers State Park Road Los Angeles, CA 90272
STATUS:CONFIRMED
SEQUENCE:0
TRANSP:OPAQUE
END:VEVENT
END:VCALENDAR
