BEGIN:VCALENDAR
VERSION:2.0
CALSCALE:GREGORIAN
BEGIN:VEVENT
DTSTAMP:20260421T080351
DTSTART:20260430T183000
DTEND:20260430T213000
SUMMARY:PIZZA PLUS At 850 Degrees
DESCRIPTION:Event Info: https://www.localwineevents.com/view/event/pizza-plus-at-850-degrees/1002875
LOCATION:850 Degrees -- 424 R Main Street Ridgefield, CT 06877
STATUS:CONFIRMED
SEQUENCE:0
TRANSP:OPAQUE
END:VEVENT
END:VCALENDAR
