BEGIN:VCALENDAR
VERSION:2.0
CALSCALE:GREGORIAN
BEGIN:VEVENT
DTSTAMP:20260421T100911
DTSTART:20260509T120000
DTEND:20260509T160000
SUMMARY:The Party You\'ve Been Waiting For - House Of Smith Wine Spring Release
DESCRIPTION:Event Info: https://www.localwineevents.com/view/event/the-party-youve-been-waiting-for---house-of-smith-wine-spring-release/1002869
LOCATION:House of Smith - Jet City Tasting Room -- 1136 S. Albro Place Seattle, WA 98108
STATUS:CONFIRMED
SEQUENCE:0
TRANSP:OPAQUE
END:VEVENT
END:VCALENDAR
