BEGIN:VCALENDAR
VERSION:2.0
CALSCALE:GREGORIAN
BEGIN:VEVENT
DTSTAMP:20260420T175802
DTSTART:20260429T183000
DTEND:20260429T090000
SUMMARY:Turnbull Winemakers Dinner At Johns Grill In San Francisco
DESCRIPTION:Event Info: https://www.localwineevents.com/view/event/turnbull-winemakers-dinner-at-johns-grill-in-san-francisco/1002868
LOCATION:Johns Grill -- 63 Ellis St San Francisco, CA 94102
STATUS:CONFIRMED
SEQUENCE:0
TRANSP:OPAQUE
END:VEVENT
END:VCALENDAR
