BEGIN:VCALENDAR
VERSION:2.0
CALSCALE:GREGORIAN
BEGIN:VEVENT
DTSTAMP:20260420T170739
DTSTART:20260622T193000
DTEND:20260622T203000
SUMMARY:French Wine 101 - 7:30pm
DESCRIPTION:Event Info: https://www.localwineevents.com/view/event/french-wine-101---730pm/1002867
LOCATION:Wine Boot Camp -- 249 Centre Street New York, NY 10013
STATUS:CONFIRMED
SEQUENCE:0
TRANSP:OPAQUE
END:VEVENT
END:VCALENDAR
