BEGIN:VCALENDAR
VERSION:2.0
CALSCALE:GREGORIAN
BEGIN:VEVENT
DTSTAMP:20260420T170837
DTSTART:20260622T180000
DTEND:20260622T190000
SUMMARY:Greece - 6pm
DESCRIPTION:Event Info: https://www.localwineevents.com/view/event/greece---6pm/1002866
LOCATION:Wine Boot Camp -- 249 Centre Street New York, NY 10013
STATUS:CONFIRMED
SEQUENCE:0
TRANSP:OPAQUE
END:VEVENT
END:VCALENDAR
