BEGIN:VCALENDAR
VERSION:2.0
CALSCALE:GREGORIAN
BEGIN:VEVENT
DTSTAMP:20260420T172201
DTSTART:20260516T120000
DTEND:20260517T170000
SUMMARY:Riverview Beach Park
DESCRIPTION:Event Info: https://www.localwineevents.com/view/event/riverview-beach-park/1002865
LOCATION:Riverview Beach Park -- 5 N Broadway Pennsville, NJ 08070
STATUS:CONFIRMED
SEQUENCE:0
TRANSP:OPAQUE
END:VEVENT
END:VCALENDAR
