BEGIN:VCALENDAR
VERSION:2.0
CALSCALE:GREGORIAN
BEGIN:VEVENT
DTSTAMP:20260420T170739
DTSTART:20260621T170000
DTEND:20260621T180000
SUMMARY:Wine And The Roman Empire - 5pm
DESCRIPTION:Event Info: https://www.localwineevents.com/view/event/wine-and-the-roman-empire---5pm/1002864
LOCATION:Wine Boot Camp -- 249 Centre Street New York, NY 10013
STATUS:CONFIRMED
SEQUENCE:0
TRANSP:OPAQUE
END:VEVENT
END:VCALENDAR
