BEGIN:VCALENDAR
VERSION:2.0
CALSCALE:GREGORIAN
BEGIN:VEVENT
DTSTAMP:20260420T170658
DTSTART:20260621T153000
DTEND:20260621T163000
SUMMARY:Australia: Beyond Shiraz - 3:30pm
DESCRIPTION:Event Info: https://www.localwineevents.com/view/event/australia-beyond-shiraz---330pm/1002863
LOCATION:Wine Boot Camp -- 249 Centre Street New York, NY 10013
STATUS:CONFIRMED
SEQUENCE:0
TRANSP:OPAQUE
END:VEVENT
END:VCALENDAR
