BEGIN:VCALENDAR
VERSION:2.0
CALSCALE:GREGORIAN
BEGIN:VEVENT
DTSTAMP:20260420T170917
DTSTART:20260608T180000
DTEND:20260608T190000
SUMMARY:Wine Tasting 101: How To Taste Like A Sommelier - 6pm
DESCRIPTION:Event Info: https://www.localwineevents.com/view/event/wine-tasting-101-how-to-taste-like-a-sommelier---6pm/1002861
LOCATION:Wine Boot Camp -- 249 Centre Street New York, NY 10013
STATUS:CONFIRMED
SEQUENCE:0
TRANSP:OPAQUE
END:VEVENT
END:VCALENDAR
