BEGIN:VCALENDAR
VERSION:2.0
CALSCALE:GREGORIAN
BEGIN:VEVENT
DTSTAMP:20260420T170750
DTSTART:20260607T190000
DTEND:20260607T200000
SUMMARY:South Africa - 7pm
DESCRIPTION:Event Info: https://www.localwineevents.com/view/event/south-africa---7pm/1002860
LOCATION:Wine Boot Camp -- 249 Centre Street New York, NY 10013
STATUS:CONFIRMED
SEQUENCE:0
TRANSP:OPAQUE
END:VEVENT
END:VCALENDAR
