BEGIN:VCALENDAR
VERSION:2.0
CALSCALE:GREGORIAN
BEGIN:VEVENT
DTSTAMP:20260420T170830
DTSTART:20260607T170000
DTEND:20260607T180000
SUMMARY:Atlantic Spain - 5pm
DESCRIPTION:Event Info: https://www.localwineevents.com/view/event/atlantic-spain---5pm/1002859
LOCATION:Wine Boot Camp -- 249 Centre Street New York, NY 10013
STATUS:CONFIRMED
SEQUENCE:0
TRANSP:OPAQUE
END:VEVENT
END:VCALENDAR
