BEGIN:VCALENDAR
VERSION:2.0
CALSCALE:GREGORIAN
BEGIN:VEVENT
DTSTAMP:20260420T170750
DTSTART:20260607T153000
DTEND:20260607T163000
SUMMARY:Burgundy VS The World - 3:30pm
DESCRIPTION:Event Info: https://www.localwineevents.com/view/event/burgundy-vs-the-world---330pm/1002858
LOCATION:Wine Boot Camp -- 249 Centre Street New York, NY 10013
STATUS:CONFIRMED
SEQUENCE:0
TRANSP:OPAQUE
END:VEVENT
END:VCALENDAR
