BEGIN:VCALENDAR
VERSION:2.0
CALSCALE:GREGORIAN
BEGIN:VEVENT
DTSTAMP:20260420T173453
DTSTART:20260502T123000
DTEND:20260502T160000
SUMMARY:Party On The Patio
DESCRIPTION:Event Info: https://www.localwineevents.com/view/event/party-on-the-patio/1002857
LOCATION:Shady Brook Farm -- 931 Stony Hill Rd. Yardley, PA 19067
STATUS:CONFIRMED
SEQUENCE:0
TRANSP:OPAQUE
END:VEVENT
END:VCALENDAR
