BEGIN:VCALENDAR
VERSION:2.0
CALSCALE:GREGORIAN
BEGIN:VEVENT
DTSTAMP:20260420T173405
DTSTART:20260501T170000
DTEND:20260522T220000
SUMMARY:Summer UnWined
DESCRIPTION:Event Info: https://www.localwineevents.com/view/event/summer-unwined/1002856
LOCATION:Shady Brook Farm -- 931 Stony Hill Rd. Yardley, PA 19067
STATUS:CONFIRMED
SEQUENCE:0
TRANSP:OPAQUE
END:VEVENT
END:VCALENDAR
