BEGIN:VCALENDAR
VERSION:2.0
CALSCALE:GREGORIAN
BEGIN:VEVENT
DTSTAMP:20260420T142838
DTSTART:20260510T160000
DTEND:20260510T180000
SUMMARY:In-Person Class: Fresh Mozzarella And Burrata (NYC)
DESCRIPTION:Event Info: https://www.localwineevents.com/view/event/in-person-class-fresh-mozzarella-and-burrata-nyc/1002854
LOCATION:EVEN Hotel New York Midtown East -- 2nd Floor 221 E 44th St New York, NY 10017
STATUS:CONFIRMED
SEQUENCE:0
TRANSP:OPAQUE
END:VEVENT
END:VCALENDAR
