BEGIN:VCALENDAR
VERSION:2.0
CALSCALE:GREGORIAN
BEGIN:VEVENT
DTSTAMP:20260421T164032
DTSTART:20260510T190000
DTEND:20260510T210000
SUMMARY:Bourbon And BBQ Experience
DESCRIPTION:Event Info: https://www.localwineevents.com/view/event/bourbon-and-bbq-experience/1002851
LOCATION:2919 Canton St -- 2919 Canton Street Dallas, TX 75226
STATUS:CONFIRMED
SEQUENCE:0
TRANSP:OPAQUE
END:VEVENT
END:VCALENDAR
