BEGIN:VCALENDAR
VERSION:2.0
CALSCALE:GREGORIAN
BEGIN:VEVENT
DTSTAMP:20260420T143739
DTSTART:20260510T100000
DTEND:20260510T113000
SUMMARY:Mother\'s Day Brunch At Garr Winery 2026
DESCRIPTION:Event Info: https://www.localwineevents.com/view/event/mothers-day-brunch-at-garr-winery-2026/1002850
LOCATION:Garre Vineyard  Winery -- 7986 Tesla Rd Livermore, CA 94550
STATUS:CONFIRMED
SEQUENCE:0
TRANSP:OPAQUE
END:VEVENT
END:VCALENDAR
