BEGIN:VCALENDAR
VERSION:2.0
CALSCALE:GREGORIAN
BEGIN:VEVENT
DTSTAMP:20260420T142733
DTSTART:20260510T110000
DTEND:20260510T133000
SUMMARY:In-Person Class: Classic French Macarons (NYC)
DESCRIPTION:Event Info: https://www.localwineevents.com/view/event/in-person-class-classic-french-macarons-nyc/1002848
LOCATION:140 58th St -- 140 58th Street Brooklyn, NY 11220
STATUS:CONFIRMED
SEQUENCE:0
TRANSP:OPAQUE
END:VEVENT
END:VCALENDAR
