BEGIN:VCALENDAR
VERSION:2.0
CALSCALE:GREGORIAN
BEGIN:VEVENT
DTSTAMP:20260420T175608
DTSTART:20260510T120000
DTEND:20260510T150000
SUMMARY:SF: Food + History + Art Tour
DESCRIPTION:Event Info: https://www.localwineevents.com/view/event/sf-food-history-art-tour/1002847
LOCATION:Elsy\'s Restaurant -- 2893 Mission Street San Francisco, CA 94110
STATUS:CONFIRMED
SEQUENCE:0
TRANSP:OPAQUE
END:VEVENT
END:VCALENDAR
