BEGIN:VCALENDAR
VERSION:2.0
CALSCALE:GREGORIAN
BEGIN:VEVENT
DTSTAMP:20260421T080351
DTSTART:20260510T160000
DTEND:20260510T183000
SUMMARY:Indian Cooking Class Summer Special
DESCRIPTION:Event Info: https://www.localwineevents.com/view/event/indian-cooking-class-summer-special/1002845
LOCATION:Mooresville -- Will be shared Mooresville, NC 28115
STATUS:CONFIRMED
SEQUENCE:0
TRANSP:OPAQUE
END:VEVENT
END:VCALENDAR
