BEGIN:VCALENDAR
VERSION:2.0
CALSCALE:GREGORIAN
BEGIN:VEVENT
DTSTAMP:20260423T135846
DTSTART:20260510T133000
DTEND:20260510T153000
SUMMARY:Latte Art For Beginners - Mother\'s Day Edition!
DESCRIPTION:Event Info: https://www.localwineevents.com/view/event/latte-art-for-beginners---mothers-day-edition/1002844
LOCATION:Sip Society Coffee Education Center -- 1806 West Cuyler Avenue Chicago, IL 60613
STATUS:CONFIRMED
SEQUENCE:0
TRANSP:OPAQUE
END:VEVENT
END:VCALENDAR
