BEGIN:VCALENDAR
VERSION:2.0
CALSCALE:GREGORIAN
BEGIN:VEVENT
DTSTAMP:20260424T005830
DTSTART:20260510T140000
DTEND:20260510T163000
SUMMARY:Cooking With Mom (Limited Availability)
DESCRIPTION:Event Info: https://www.localwineevents.com/view/event/cooking-with-mom-limited-availability/1002840
LOCATION:9 Via Toscana -- 9 Via Toscana Salem, NH 03079
STATUS:CONFIRMED
SEQUENCE:0
TRANSP:OPAQUE
END:VEVENT
END:VCALENDAR
