BEGIN:VCALENDAR
VERSION:2.0
CALSCALE:GREGORIAN
BEGIN:VEVENT
DTSTAMP:20260420T174402
DTSTART:20260510T103000
DTEND:20260510T130000
SUMMARY:Mother\'s Day Brunch Boards  Bubbly Bar
DESCRIPTION:Event Info: https://www.localwineevents.com/view/event/mothers-day-brunch-boards-bubbly-bar/1002839
LOCATION:8 Chains North Winery -- 38593 Daymont Lane Waterford, VA 20197
STATUS:CONFIRMED
SEQUENCE:0
TRANSP:OPAQUE
END:VEVENT
END:VCALENDAR
