BEGIN:VCALENDAR
VERSION:2.0
CALSCALE:GREGORIAN
BEGIN:VEVENT
DTSTAMP:20260420T142813
DTSTART:20260510T133000
DTEND:20260510T150000
SUMMARY:Let\'s Taste Some Sake!
DESCRIPTION:Event Info: https://www.localwineevents.com/view/event/lets-taste-some-sake/1002838
LOCATION:Kato Sake Works -- 379 Troutman Street Brooklyn, NY 11237
STATUS:CONFIRMED
SEQUENCE:0
TRANSP:OPAQUE
END:VEVENT
END:VCALENDAR
