BEGIN:VCALENDAR
VERSION:2.0
CALSCALE:GREGORIAN
BEGIN:VEVENT
DTSTAMP:20260420T173405
DTSTART:20260510T110000
DTEND:20260510T140000
SUMMARY:2026 Mother\'s Day Weekend/Sun Lunch Hand Made Dumpling Making Class Philly
DESCRIPTION:Event Info: https://www.localwineevents.com/view/event/2026-mothers-day-weekendsun-lunch-hand-made-dumpling-making-class-philly/1002834
LOCATION:Fairmount House/Free Street Parking/Spacious/Quiet -- 2211 North 52nd Street Philadelphia, PA 19131
STATUS:CONFIRMED
SEQUENCE:0
TRANSP:OPAQUE
END:VEVENT
END:VCALENDAR
