BEGIN:VCALENDAR
VERSION:2.0
CALSCALE:GREGORIAN
BEGIN:VEVENT
DTSTAMP:20260422T233847
DTSTART:20260510T190000
DTEND:20260510T220000
SUMMARY:Flavors Of Japan Festival
DESCRIPTION:Event Info: https://www.localwineevents.com/view/event/flavors-of-japan-festival/1002833
LOCATION:5771 N Apopka Vineland Rd -- 5771 North Apopka Vineland Road Orlando, FL 32818
STATUS:CONFIRMED
SEQUENCE:0
TRANSP:OPAQUE
END:VEVENT
END:VCALENDAR
