BEGIN:VCALENDAR
VERSION:2.0
CALSCALE:GREGORIAN
BEGIN:VEVENT
DTSTAMP:20260420T140646
DTSTART:20260510T170000
DTEND:20260510T190000
SUMMARY:Fresh Pasta Carbonara And Crema Bruciata
DESCRIPTION:Event Info: https://www.localwineevents.com/view/event/fresh-pasta-carbonara-and-crema-bruciata/1002831
LOCATION:Bravo Maine -- 559 Brighton Avenue Portland, ME 04101
STATUS:CONFIRMED
SEQUENCE:0
TRANSP:OPAQUE
END:VEVENT
END:VCALENDAR
