BEGIN:VCALENDAR
VERSION:2.0
CALSCALE:GREGORIAN
BEGIN:VEVENT
DTSTAMP:20260420T142813
DTSTART:20260510T110000
DTEND:20260510T114500
SUMMARY:Matcha 101 \'Whisk  Sip\'
DESCRIPTION:Event Info: https://www.localwineevents.com/view/event/matcha-101-whisk-sip/1002827
LOCATION:KINKA -- 63 East 7th Street New York, NY 10003
STATUS:CONFIRMED
SEQUENCE:0
TRANSP:OPAQUE
END:VEVENT
END:VCALENDAR
