BEGIN:VCALENDAR
VERSION:2.0
CALSCALE:GREGORIAN
BEGIN:VEVENT
DTSTAMP:20260421T164733
DTSTART:20260510T110000
DTEND:20260510T150000
SUMMARY:International Food Fest: A World Of Flavors
DESCRIPTION:Event Info: https://www.localwineevents.com/view/event/international-food-fest-a-world-of-flavors/1002824
LOCATION:2919 Canton St -- 2919 Canton Street Dallas, TX 75226
STATUS:CONFIRMED
SEQUENCE:0
TRANSP:OPAQUE
END:VEVENT
END:VCALENDAR
