BEGIN:VCALENDAR
VERSION:2.0
CALSCALE:GREGORIAN
BEGIN:VEVENT
DTSTAMP:20260420T140624
DTSTART:20260510T150000
DTEND:20260510T170000
SUMMARY:In-person Class: Handmade Fettuccine With Alfredo Sauce (Riverside)
DESCRIPTION:Event Info: https://www.localwineevents.com/view/event/in-person-class-handmade-fettuccine-with-alfredo-sauce-riverside/1002822
LOCATION:Canyon Crest Winery -- 301 East Alessandro Boulevard Riverside, CA 92508
STATUS:CONFIRMED
SEQUENCE:0
TRANSP:OPAQUE
END:VEVENT
END:VCALENDAR
