BEGIN:VCALENDAR
VERSION:2.0
CALSCALE:GREGORIAN
BEGIN:VEVENT
DTSTAMP:20260424T011153
DTSTART:20260510T100000
DTEND:20260510T113000
SUMMARY:Mother\'s Day Brunch With  Cheese And Flights Of Mimosas  Sangria Samples
DESCRIPTION:Event Info: https://www.localwineevents.com/view/event/mothers-day-brunch-with-cheese-and-flights-of-mimosas-sangria-samples/1002821
LOCATION:Life Love Cheese -- 184 Water Street Wakefield, MA 01880
STATUS:CONFIRMED
SEQUENCE:0
TRANSP:OPAQUE
END:VEVENT
END:VCALENDAR
