BEGIN:VCALENDAR
VERSION:2.0
CALSCALE:GREGORIAN
BEGIN:VEVENT
DTSTAMP:20260420T182355
DTSTART:20260510T090000
DTEND:20260510T103000
SUMMARY:Single Origin Coffee Tasting Experience
DESCRIPTION:Event Info: https://www.localwineevents.com/view/event/single-origin-coffee-tasting-experience/1002820
LOCATION:Coffee  Water Lab -- 603 Saratoga Avenue San Jose, CA 95129
STATUS:CONFIRMED
SEQUENCE:0
TRANSP:OPAQUE
END:VEVENT
END:VCALENDAR
