BEGIN:VCALENDAR
VERSION:2.0
CALSCALE:GREGORIAN
BEGIN:VEVENT
DTSTAMP:20260420T142915
DTSTART:20260510T130000
DTEND:20260510T151500
SUMMARY:In-Person Class: Sicilian Cannoli Workshop (NYC)
DESCRIPTION:Event Info: https://www.localwineevents.com/view/event/in-person-class-sicilian-cannoli-workshop-nyc/1002814
LOCATION:Selina Chelsea New York City -- 518 West 27th Street New York, NY 10001
STATUS:CONFIRMED
SEQUENCE:0
TRANSP:OPAQUE
END:VEVENT
END:VCALENDAR
