BEGIN:VCALENDAR
VERSION:2.0
CALSCALE:GREGORIAN
BEGIN:VEVENT
DTSTAMP:20260420T154316
DTSTART:20260510T140000
DTEND:20260510T150000
SUMMARY:Mundia, Harvey  Best At Le Vigne Tasting Room
DESCRIPTION:Event Info: https://www.localwineevents.com/view/event/mundia-harvey-best-at-le-vigne-tasting-room/1002808
LOCATION:Le Vigne LA -- 2325 East 55th Street Vernon, CA 90058
STATUS:CONFIRMED
SEQUENCE:0
TRANSP:OPAQUE
END:VEVENT
END:VCALENDAR
