BEGIN:VCALENDAR
VERSION:2.0
CALSCALE:GREGORIAN
BEGIN:VEVENT
DTSTAMP:20260420T152459
DTSTART:20260510T113000
DTEND:20260510T130000
SUMMARY:The Charcuterie Experience- Mother\'s Day
DESCRIPTION:Event Info: https://www.localwineevents.com/view/event/the-charcuterie-experience--mothers-day/1002807
LOCATION:Whole Hearted Winery -- 56808 Grand River Avenue Lyon Charter Township, MI 48165
STATUS:CONFIRMED
SEQUENCE:0
TRANSP:OPAQUE
END:VEVENT
END:VCALENDAR
