BEGIN:VCALENDAR
VERSION:2.0
CALSCALE:GREGORIAN
BEGIN:VEVENT
DTSTAMP:20260422T163828
DTSTART:20260510T100000
DTEND:20260510T120000
SUMMARY:Farm Style Mother\'s Day Brunch
DESCRIPTION:Event Info: https://www.localwineevents.com/view/event/farm-style-mothers-day-brunch/1002805
LOCATION:15th Street Farm -- 342 15th St N St. Petersburg, FL 33705
STATUS:CONFIRMED
SEQUENCE:0
TRANSP:OPAQUE
END:VEVENT
END:VCALENDAR
